BEGIN:VCALENDAR
VERSION:2.0
PRODID:icalendar-ruby
CALSCALE:GREGORIAN
METHOD:PUBLISH
BEGIN:VEVENT
DTSTAMP:20260424T115915Z
UID:5-3888162@oasisoflovefellowship.org
DTSTART:20261105T000000Z
DTEND:20261105T010000Z
CLASS:PUBLIC
CREATED:20260424T060007
DESCRIPTION:
LAST-MODIFIED:20260424T060007
LOCATION:Oasis of Love\; 7681 Hwy 1 By-pass\; Natchitoches\, Louisiana 7145
 7
SUMMARY:Wednesday Night Bible Study
URL;VALUE=URI:https://www.oasisoflovefellowship.org/events/wednesday-night-
 bible-study/2026-11-04
ATTACH;FILENAME=IMG_3994.JPG;FMTTYPE=image/jpeg:https://dq5pwpg1q8ru0.cloud
 front.net/2023/06/20/13/01/48/609ea4d9-5df9-4ab1-a76b-a58c71ff4544/IMG_399
 4.JPG
END:VEVENT
END:VCALENDAR
