BEGIN:VCALENDAR
VERSION:2.0
PRODID:icalendar-ruby
CALSCALE:GREGORIAN
METHOD:PUBLISH
BEGIN:VEVENT
DTSTAMP:20260424T033307Z
UID:5-3886032@oasisoflovefellowship.org
DTSTART:20260923T230000Z
DTEND:20260924T000000Z
CLASS:PUBLIC
CREATED:20260423T203217
DESCRIPTION:
LAST-MODIFIED:20260423T203217
LOCATION:Oasis of Love\; 7681 Hwy 1 By-pass\; Natchitoches\, Louisiana 7145
 7
SUMMARY:Wednesday Night Bible Study
URL;VALUE=URI:https://www.oasisoflovefellowship.org/events/wednesday-night-
 bible-study/2026-09-23
ATTACH;FILENAME=IMG_3994.JPG;FMTTYPE=image/jpeg:https://dq5pwpg1q8ru0.cloud
 front.net/2023/06/20/13/01/48/609ea4d9-5df9-4ab1-a76b-a58c71ff4544/IMG_399
 4.JPG
END:VEVENT
END:VCALENDAR
